BEGIN:VCALENDAR
VERSION:2.0
PRODID:icalendar-ruby
CALSCALE:GREGORIAN
METHOD:PUBLISH
BEGIN:VEVENT
DTSTAMP:20260421T043033Z
UID:30-60069@stpetersloxton.church
DTSTART:20260816T010000Z
DTEND:20260816T023000Z
CLASS:PUBLIC
CREATED:20260421T093846
DESCRIPTION:
LAST-MODIFIED:20260421T093846
LOCATION:St Peter's Church Building
SUMMARY:Sunday Worship
URL;VALUE=URI:https://www.stpetersloxton.church/events/sunday-worship--30/2
 026-08-16
ATTACH;FILENAME=57076922_2093167970790007_7727480402771705856_o.jpg;FMTTYPE
 =image/jpeg:https://dq5pwpg1q8ru0.cloudfront.net/2025/11/07/00/09/23/65392
 465-75f3-470c-85c5-7741f55e2560/57076922_2093167970790007_7727480402771705
 856_o.jpg
END:VEVENT
END:VCALENDAR
